Package: SPONGE Version: 1.29.0 Command: rm -rf SPONGE.buildbin-libdir && mkdir SPONGE.buildbin-libdir && E:\biocbuild\bbs-3.21-bioc\R\bin\R.exe CMD INSTALL --build --library=SPONGE.buildbin-libdir SPONGE_1.29.0.tar.gz StartedAt: 2025-02-10 08:48:00 -0500 (Mon, 10 Feb 2025) EndedAt: 2025-02-10 08:49:28 -0500 (Mon, 10 Feb 2025) EllapsedTime: 88.5 seconds RetCode: 0 Status: OK PackageFile: SPONGE_1.29.0.zip PackageFileSize: 8.423 MiB