Package: SPONGE Version: 1.29.0 Command: E:\biocbuild\bbs-3.21-bioc\R\bin\R.exe CMD check --no-multiarch --install=check:SPONGE.install-out.txt --library=E:\biocbuild\bbs-3.21-bioc\R\library --no-vignettes --timings SPONGE_1.29.0.tar.gz StartedAt: 2025-02-10 05:49:51 -0500 (Mon, 10 Feb 2025) EndedAt: 2025-02-10 05:56:45 -0500 (Mon, 10 Feb 2025) EllapsedTime: 414.1 seconds RetCode: 0 Status: WARNINGS CheckDir: SPONGE.Rcheck Warnings: 5