Package: SPsimSeq Version: 1.17.0 Maintainer: Joris Meys MaintainerEmail: Joris.Meys at ugent.be git_url: https://git.bioconductor.org/packages/SPsimSeq git_branch: devel git_last_commit: 36e9409 git_last_commit_date: 2024-10-29 10:47:41 -0500 (Tue, 29 Oct 2024)