Package: SPsimSeq Version: 1.17.0 Command: /home/biocbuild/R/R/bin/R CMD build --keep-empty-dirs --no-resave-data SPsimSeq StartedAt: 2025-01-28 02:42:56 -0000 (Tue, 28 Jan 2025) EndedAt: 2025-01-28 02:50:12 -0000 (Tue, 28 Jan 2025) EllapsedTime: 436.2 seconds RetCode: 0 Status: OK PackageFile: SPsimSeq_1.17.0.tar.gz PackageFileSize: 616.5 KiB