Package: SPsimSeq Version: 1.17.0 Command: rm -rf SPsimSeq.buildbin-libdir && mkdir SPsimSeq.buildbin-libdir && /Users/biocbuild/BBS/utils/build-universal.sh SPsimSeq_1.17.0.tar.gz /Library/Frameworks/R.framework/Resources/bin/R SPsimSeq.buildbin-libdir StartedAt: 2025-02-05 01:04:34 -0500 (Wed, 05 Feb 2025) EndedAt: 2025-02-05 01:05:22 -0500 (Wed, 05 Feb 2025) EllapsedTime: 47.5 seconds RetCode: 0 Status: OK PackageFile: SPsimSeq_1.17.0.tgz PackageFileSize: 940.4 KiB