Package: SPsimSeq Version: 1.17.0 Command: /Library/Frameworks/R.framework/Resources/bin/R CMD build --keep-empty-dirs --no-resave-data SPsimSeq StartedAt: 2025-02-09 18:36:33 -0500 (Sun, 09 Feb 2025) EndedAt: 2025-02-09 18:40:45 -0500 (Sun, 09 Feb 2025) EllapsedTime: 251.3 seconds RetCode: 0 Status: OK PackageFile: SPsimSeq_1.17.0.tar.gz PackageFileSize: 773.2 KiB