Package: SPsimSeq Version: 1.17.0 Command: /Library/Frameworks/R.framework/Resources/bin/R CMD check --install=check:SPsimSeq.install-out.txt --library=/Library/Frameworks/R.framework/Resources/library --no-vignettes --timings SPsimSeq_1.17.0.tar.gz StartedAt: 2025-02-04 23:33:41 -0500 (Tue, 04 Feb 2025) EndedAt: 2025-02-04 23:40:30 -0500 (Tue, 04 Feb 2025) EllapsedTime: 409.1 seconds RetCode: 0 Status: OK CheckDir: SPsimSeq.Rcheck Warnings: 0