Package: SPsimSeq Version: 1.17.0 Command: /home/biocbuild/bbs-3.21-bioc/R/bin/R CMD check --install=check:SPsimSeq.install-out.txt --library=/home/biocbuild/bbs-3.21-bioc/R/site-library --timings SPsimSeq_1.17.0.tar.gz StartedAt: 2025-02-10 03:03:07 -0500 (Mon, 10 Feb 2025) EndedAt: 2025-02-10 03:12:46 -0500 (Mon, 10 Feb 2025) EllapsedTime: 578.8 seconds RetCode: 0 Status: OK CheckDir: SPsimSeq.Rcheck Warnings: 0