Package: SPsimSeq Version: 1.17.0 Command: /home/biocbuild/bbs-3.21-bioc/R/bin/R CMD INSTALL SPsimSeq StartedAt: 2025-02-09 15:42:48 -0500 (Sun, 09 Feb 2025) EndedAt: 2025-02-09 15:43:23 -0500 (Sun, 09 Feb 2025) EllapsedTime: 35.1 seconds RetCode: 0 Status: OK