Package: STATegRa Version: 1.43.0 Command: /home/biocbuild/R/R/bin/R CMD INSTALL STATegRa StartedAt: 2025-01-29 19:41:08 -0000 (Wed, 29 Jan 2025) EndedAt: 2025-01-29 19:41:26 -0000 (Wed, 29 Jan 2025) EllapsedTime: 18.0 seconds RetCode: 0 Status: OK