Package: STATegRa Version: 1.43.0 Command: rm -rf STATegRa.buildbin-libdir && mkdir STATegRa.buildbin-libdir && /Users/biocbuild/BBS/utils/build-universal.sh STATegRa_1.43.0.tar.gz /Library/Frameworks/R.framework/Resources/bin/R STATegRa.buildbin-libdir StartedAt: 2025-02-10 01:19:10 -0500 (Mon, 10 Feb 2025) EndedAt: 2025-02-10 01:19:31 -0500 (Mon, 10 Feb 2025) EllapsedTime: 21.0 seconds RetCode: 0 Status: OK PackageFile: STATegRa_1.43.0.tgz PackageFileSize: 4.877 MiB