Package: STATegRa Version: 1.43.0 Command: /home/biocbuild/bbs-3.21-bioc/R/bin/R CMD INSTALL STATegRa StartedAt: 2025-02-09 15:12:44 -0500 (Sun, 09 Feb 2025) EndedAt: 2025-02-09 15:12:57 -0500 (Sun, 09 Feb 2025) EllapsedTime: 13.3 seconds RetCode: 0 Status: OK