Package: SVMDO Version: 1.7.0 Command: /Library/Frameworks/R.framework/Resources/bin/R CMD INSTALL SVMDO StartedAt: 2025-02-09 15:23:48 -0500 (Sun, 09 Feb 2025) EndedAt: 2025-02-09 15:24:02 -0500 (Sun, 09 Feb 2025) EllapsedTime: 14.2 seconds RetCode: 0 Status: OK