Package: SVMDO Version: 1.7.0 Command: /home/biocbuild/R/R/bin/R CMD build --keep-empty-dirs --no-resave-data SVMDO StartedAt: 2025-01-28 02:49:24 -0000 (Tue, 28 Jan 2025) EndedAt: 2025-01-28 02:50:16 -0000 (Tue, 28 Jan 2025) EllapsedTime: 52.0 seconds RetCode: 0 Status: OK PackageFile: SVMDO_1.7.0.tar.gz PackageFileSize: 2.403 MiB