Package: SVMDO Version: 1.7.0 Command: rm -rf SVMDO.buildbin-libdir && mkdir SVMDO.buildbin-libdir && /Users/biocbuild/BBS/utils/build-universal.sh SVMDO_1.7.0.tar.gz /Library/Frameworks/R.framework/Resources/bin/R SVMDO.buildbin-libdir StartedAt: 2025-02-05 01:05:23 -0500 (Wed, 05 Feb 2025) EndedAt: 2025-02-05 01:06:13 -0500 (Wed, 05 Feb 2025) EllapsedTime: 49.8 seconds RetCode: 0 Status: OK PackageFile: SVMDO_1.7.0.tgz PackageFileSize: 2.361 MiB