Package: SVMDO Version: 1.7.0 Command: /Library/Frameworks/R.framework/Resources/bin/R CMD check --install=check:SVMDO.install-out.txt --library=/Library/Frameworks/R.framework/Resources/library --no-vignettes --timings SVMDO_1.7.0.tar.gz StartedAt: 2025-02-10 00:00:41 -0500 (Mon, 10 Feb 2025) EndedAt: 2025-02-10 00:06:07 -0500 (Mon, 10 Feb 2025) EllapsedTime: 326.2 seconds RetCode: 0 Status: OK CheckDir: SVMDO.Rcheck Warnings: 0