Package: SVMDO Version: 1.7.0 Command: rm -rf SVMDO.buildbin-libdir && mkdir SVMDO.buildbin-libdir && E:\biocbuild\bbs-3.21-bioc\R\bin\R.exe CMD INSTALL --build --library=SVMDO.buildbin-libdir SVMDO_1.7.0.tar.gz StartedAt: 2025-02-10 08:49:52 -0500 (Mon, 10 Feb 2025) EndedAt: 2025-02-10 08:50:45 -0500 (Mon, 10 Feb 2025) EllapsedTime: 52.5 seconds RetCode: 0 Status: OK PackageFile: SVMDO_1.7.0.zip PackageFileSize: 2.367 MiB