Package: SVMDO Version: 1.7.0 Command: chmod a+r SVMDO -R && E:\biocbuild\bbs-3.21-bioc\R\bin\R.exe CMD build --keep-empty-dirs --no-resave-data SVMDO StartedAt: 2025-02-09 22:00:03 -0500 (Sun, 09 Feb 2025) EndedAt: 2025-02-09 22:01:05 -0500 (Sun, 09 Feb 2025) EllapsedTime: 61.3 seconds RetCode: 0 Status: OK PackageFile: SVMDO_1.7.0.tar.gz PackageFileSize: 2.379 MiB