Package: SVMDO Version: 1.7.0 Command: E:\biocbuild\bbs-3.21-bioc\R\bin\R.exe CMD INSTALL SVMDO StartedAt: 2025-02-09 16:14:42 -0500 (Sun, 09 Feb 2025) EndedAt: 2025-02-09 16:15:31 -0500 (Sun, 09 Feb 2025) EllapsedTime: 48.6 seconds RetCode: 0 Status: OK