Package: SamSPECTRAL Version: 1.61.0 Command: /home/biocbuild/R/R/bin/R CMD build --keep-empty-dirs --no-resave-data SamSPECTRAL StartedAt: 2025-01-29 01:56:13 -0000 (Wed, 29 Jan 2025) EndedAt: 2025-01-29 01:56:49 -0000 (Wed, 29 Jan 2025) EllapsedTime: 36.0 seconds RetCode: 0 Status: OK PackageFile: SamSPECTRAL_1.61.0.tar.gz PackageFileSize: 943.8 KiB