Package: SamSPECTRAL Version: 1.61.0 Command: /home/biocbuild/bbs-3.21-bioc/R/bin/R CMD build --keep-empty-dirs --no-resave-data SamSPECTRAL StartedAt: 2025-02-09 19:03:12 -0500 (Sun, 09 Feb 2025) EndedAt: 2025-02-09 19:04:11 -0500 (Sun, 09 Feb 2025) EllapsedTime: 59.1 seconds RetCode: 0 Status: OK PackageFile: SamSPECTRAL_1.61.0.tar.gz PackageFileSize: 936.6 KiB