Package: ScaledMatrix Version: 1.15.0 Command: /Library/Frameworks/R.framework/Resources/bin/R CMD INSTALL ScaledMatrix StartedAt: 2025-02-09 15:03:34 -0500 (Sun, 09 Feb 2025) EndedAt: 2025-02-09 15:03:42 -0500 (Sun, 09 Feb 2025) EllapsedTime: 7.3 seconds RetCode: 0 Status: OK