Package: ScaledMatrix Version: 1.15.0 Command: E:\biocbuild\bbs-3.21-bioc\R\bin\R.exe CMD INSTALL ScaledMatrix StartedAt: 2025-02-09 15:53:43 -0500 (Sun, 09 Feb 2025) EndedAt: 2025-02-09 15:54:20 -0500 (Sun, 09 Feb 2025) EllapsedTime: 37.6 seconds RetCode: 0 Status: OK