Package: Sconify Version: 1.27.0 Command: rm -rf Sconify.buildbin-libdir && mkdir Sconify.buildbin-libdir && /Users/biocbuild/BBS/utils/build-universal.sh Sconify_1.27.0.tar.gz /Library/Frameworks/R.framework/Resources/bin/R Sconify.buildbin-libdir StartedAt: 2025-02-09 22:29:58 -0500 (Sun, 09 Feb 2025) EndedAt: 2025-02-09 22:30:03 -0500 (Sun, 09 Feb 2025) EllapsedTime: 5.1 seconds RetCode: 0 Status: OK PackageFile: Sconify_1.27.0.tgz PackageFileSize: 3.631 MiB