Package: Sconify Version: 1.27.0 Command: /Library/Frameworks/R.framework/Resources/bin/R CMD build --keep-empty-dirs --no-resave-data Sconify StartedAt: 2025-02-09 18:21:45 -0500 (Sun, 09 Feb 2025) EndedAt: 2025-02-09 18:22:28 -0500 (Sun, 09 Feb 2025) EllapsedTime: 42.2 seconds RetCode: 0 Status: OK PackageFile: Sconify_1.27.0.tar.gz PackageFileSize: 4.911 MiB