Package: Sconify Version: 1.27.0 Command: /Library/Frameworks/R.framework/Resources/bin/R CMD check --install=check:Sconify.install-out.txt --library=/Library/Frameworks/R.framework/Resources/library --no-vignettes --timings Sconify_1.27.0.tar.gz StartedAt: 2025-02-09 23:28:02 -0500 (Sun, 09 Feb 2025) EndedAt: 2025-02-09 23:30:05 -0500 (Sun, 09 Feb 2025) EllapsedTime: 123.8 seconds RetCode: 0 Status: OK CheckDir: Sconify.Rcheck Warnings: 0