Package: Sconify Version: 1.27.0 Command: /home/biocbuild/bbs-3.21-bioc/R/bin/R CMD build --keep-empty-dirs --no-resave-data Sconify StartedAt: 2025-02-04 19:07:10 -0500 (Tue, 04 Feb 2025) EndedAt: 2025-02-04 19:07:41 -0500 (Tue, 04 Feb 2025) EllapsedTime: 31.0 seconds RetCode: 0 Status: OK PackageFile: Sconify_1.27.0.tar.gz PackageFileSize: 4.807 MiB