Package: Sconify Version: 1.27.0 Command: /home/biocbuild/bbs-3.21-bioc/R/bin/R CMD INSTALL Sconify StartedAt: 2025-02-04 15:12:07 -0500 (Tue, 04 Feb 2025) EndedAt: 2025-02-04 15:12:17 -0500 (Tue, 04 Feb 2025) EllapsedTime: 9.8 seconds RetCode: 0 Status: OK