Package: Sconify Version: 1.27.0 Command: chmod a+r Sconify -R && E:\biocbuild\bbs-3.21-bioc\R\bin\R.exe CMD build --keep-empty-dirs --no-resave-data Sconify StartedAt: 2025-02-09 21:29:25 -0500 (Sun, 09 Feb 2025) EndedAt: 2025-02-09 21:30:55 -0500 (Sun, 09 Feb 2025) EllapsedTime: 90.6 seconds RetCode: 0 Status: OK PackageFile: Sconify_1.27.0.tar.gz PackageFileSize: 4.38 MiB