Package: ScreenR Version: 1.9.0 Command: rm -rf ScreenR.buildbin-libdir && mkdir ScreenR.buildbin-libdir && /Users/biocbuild/BBS/utils/build-universal.sh ScreenR_1.9.0.tar.gz /Library/Frameworks/R.framework/Resources/bin/R ScreenR.buildbin-libdir StartedAt: 2025-02-09 22:30:11 -0500 (Sun, 09 Feb 2025) EndedAt: 2025-02-09 22:30:15 -0500 (Sun, 09 Feb 2025) EllapsedTime: 4.1 seconds RetCode: 0 Status: OK PackageFile: ScreenR_1.9.0.tgz PackageFileSize: 2.101 MiB