Package: ScreenR Version: 1.9.0 Command: /Library/Frameworks/R.framework/Resources/bin/R CMD check --install=check:ScreenR.install-out.txt --library=/Library/Frameworks/R.framework/Resources/library --no-vignettes --timings ScreenR_1.9.0.tar.gz StartedAt: 2025-02-12 21:21:02 -0500 (Wed, 12 Feb 2025) EndedAt: 2025-02-12 21:22:36 -0500 (Wed, 12 Feb 2025) EllapsedTime: 94.1 seconds RetCode: 0 Status: OK CheckDir: ScreenR.Rcheck Warnings: 0