Package: ScreenR Version: 1.9.0 Command: /Library/Frameworks/R.framework/Resources/bin/R CMD INSTALL ScreenR StartedAt: 2025-02-12 15:05:56 -0500 (Wed, 12 Feb 2025) EndedAt: 2025-02-12 15:06:00 -0500 (Wed, 12 Feb 2025) EllapsedTime: 3.7 seconds RetCode: 0 Status: OK