Package: ScreenR Version: 1.9.0 Command: /Library/Frameworks/R.framework/Resources/bin/R CMD INSTALL ScreenR StartedAt: 2025-02-09 15:08:48 -0500 (Sun, 09 Feb 2025) EndedAt: 2025-02-09 15:09:06 -0500 (Sun, 09 Feb 2025) EllapsedTime: 18.0 seconds RetCode: 0 Status: OK