Package: ScreenR Version: 1.9.0 Command: rm -rf ScreenR.buildbin-libdir && mkdir ScreenR.buildbin-libdir && E:\biocbuild\bbs-3.21-bioc\R\bin\R.exe CMD INSTALL --build --library=ScreenR.buildbin-libdir ScreenR_1.9.0.tar.gz StartedAt: 2025-02-13 08:51:09 -0500 (Thu, 13 Feb 2025) EndedAt: 2025-02-13 08:51:41 -0500 (Thu, 13 Feb 2025) EllapsedTime: 32.3 seconds RetCode: 0 Status: OK PackageFile: ScreenR_1.9.0.zip PackageFileSize: 1.799 MiB