Package: SemDist Version: 1.41.0 Command: /Library/Frameworks/R.framework/Resources/bin/R CMD build --keep-empty-dirs --no-resave-data SemDist StartedAt: 2025-02-09 17:35:47 -0500 (Sun, 09 Feb 2025) EndedAt: 2025-02-09 17:36:04 -0500 (Sun, 09 Feb 2025) EllapsedTime: 17.2 seconds RetCode: 0 Status: OK PackageFile: SemDist_1.41.0.tar.gz PackageFileSize: 1.953 MiB