Package: SemDist Version: 1.41.0 Command: /Library/Frameworks/R.framework/Resources/bin/R CMD check --install=check:SemDist.install-out.txt --library=/Library/Frameworks/R.framework/Resources/library --no-vignettes --timings SemDist_1.41.0.tar.gz StartedAt: 2025-02-09 21:18:54 -0500 (Sun, 09 Feb 2025) EndedAt: 2025-02-09 21:19:54 -0500 (Sun, 09 Feb 2025) EllapsedTime: 60.8 seconds RetCode: 0 Status: OK CheckDir: SemDist.Rcheck Warnings: 0