Package: SemDist Version: 1.41.0 Command: /home/biocbuild/R/R/bin/R CMD INSTALL SemDist StartedAt: 2025-01-29 19:51:19 -0000 (Wed, 29 Jan 2025) EndedAt: 2025-01-29 19:51:38 -0000 (Wed, 29 Jan 2025) EllapsedTime: 18.8 seconds RetCode: 0 Status: OK