Package: SemDist Version: 1.41.0 Command: rm -rf SemDist.buildbin-libdir && mkdir SemDist.buildbin-libdir && /Users/biocbuild/BBS/utils/build-universal.sh SemDist_1.41.0.tar.gz /Library/Frameworks/R.framework/Resources/bin/R SemDist.buildbin-libdir StartedAt: 2025-02-10 01:15:56 -0500 (Mon, 10 Feb 2025) EndedAt: 2025-02-10 01:16:18 -0500 (Mon, 10 Feb 2025) EllapsedTime: 21.9 seconds RetCode: 0 Status: OK PackageFile: SemDist_1.41.0.tgz PackageFileSize: 1.991 MiB