Package: SemDist Version: 1.41.0 Command: /home/biocbuild/bbs-3.21-bioc/R/bin/R CMD build --keep-empty-dirs --no-resave-data SemDist StartedAt: 2025-02-09 19:14:09 -0500 (Sun, 09 Feb 2025) EndedAt: 2025-02-09 19:14:44 -0500 (Sun, 09 Feb 2025) EllapsedTime: 35.0 seconds RetCode: 0 Status: OK PackageFile: SemDist_1.41.0.tar.gz PackageFileSize: 1.953 MiB