Package: SemDist Version: 1.41.0 Command: /home/biocbuild/bbs-3.21-bioc/R/bin/R CMD INSTALL SemDist StartedAt: 2025-02-04 15:40:04 -0500 (Tue, 04 Feb 2025) EndedAt: 2025-02-04 15:40:18 -0500 (Tue, 04 Feb 2025) EllapsedTime: 13.8 seconds RetCode: 0 Status: OK