Package: SemDist Version: 1.41.0 Command: E:\biocbuild\bbs-3.21-bioc\R\bin\R.exe CMD check --no-multiarch --install=check:SemDist.install-out.txt --library=E:\biocbuild\bbs-3.21-bioc\R\library --no-vignettes --timings SemDist_1.41.0.tar.gz StartedAt: 2025-02-05 05:44:39 -0500 (Wed, 05 Feb 2025) EndedAt: 2025-02-05 05:47:52 -0500 (Wed, 05 Feb 2025) EllapsedTime: 193.3 seconds RetCode: 0 Status: OK CheckDir: SemDist.Rcheck Warnings: 0