Package: SeqArray Version: 1.47.3 Command: rm -rf SeqArray.buildbin-libdir && mkdir SeqArray.buildbin-libdir && /Users/biocbuild/BBS/utils/build-universal.sh SeqArray_1.47.3.tar.gz /Library/Frameworks/R.framework/Resources/bin/R SeqArray.buildbin-libdir StartedAt: 2025-02-09 22:30:41 -0500 (Sun, 09 Feb 2025) EndedAt: 2025-02-09 22:30:56 -0500 (Sun, 09 Feb 2025) EllapsedTime: 15.3 seconds RetCode: 0 Status: OK PackageFile: SeqArray_1.47.3.tgz PackageFileSize: 4.091 MiB