Package: SeqArray Version: 1.47.3 Command: /Library/Frameworks/R.framework/Resources/bin/R CMD build --keep-empty-dirs --no-resave-data SeqArray StartedAt: 2025-02-09 17:35:56 -0500 (Sun, 09 Feb 2025) EndedAt: 2025-02-09 17:36:55 -0500 (Sun, 09 Feb 2025) EllapsedTime: 58.7 seconds RetCode: 0 Status: OK PackageFile: SeqArray_1.47.3.tar.gz PackageFileSize: 3.648 MiB