Package: SeqArray Version: 1.47.2 Command: /home/biocbuild/R/R/bin/R CMD INSTALL SeqArray StartedAt: 2025-01-29 19:38:13 -0000 (Wed, 29 Jan 2025) EndedAt: 2025-01-29 19:39:12 -0000 (Wed, 29 Jan 2025) EllapsedTime: 59.3 seconds RetCode: 0 Status: OK