Package: SeqArray Version: 1.47.3 Command: /Library/Frameworks/R.framework/Resources/bin/R CMD build --keep-empty-dirs --no-resave-data SeqArray StartedAt: 2025-02-09 18:26:02 -0500 (Sun, 09 Feb 2025) EndedAt: 2025-02-09 18:28:20 -0500 (Sun, 09 Feb 2025) EllapsedTime: 138.2 seconds RetCode: 0 Status: OK PackageFile: SeqArray_1.47.3.tar.gz PackageFileSize: 3.701 MiB