Package: SeqArray Version: 1.47.3 Command: /Library/Frameworks/R.framework/Resources/bin/R CMD check --install=check:SeqArray.install-out.txt --library=/Library/Frameworks/R.framework/Resources/library --no-vignettes --timings SeqArray_1.47.3.tar.gz StartedAt: 2025-02-12 23:19:17 -0500 (Wed, 12 Feb 2025) EndedAt: 2025-02-12 23:22:53 -0500 (Wed, 12 Feb 2025) EllapsedTime: 216.3 seconds RetCode: 0 Status: OK CheckDir: SeqArray.Rcheck Warnings: 0