Package: SeqArray Version: 1.47.3 Command: chmod a+r SeqArray -R && E:\biocbuild\bbs-3.21-bioc\R\bin\R.exe CMD build --keep-empty-dirs --no-resave-data SeqArray StartedAt: 2025-02-09 21:36:35 -0500 (Sun, 09 Feb 2025) EndedAt: 2025-02-09 21:42:22 -0500 (Sun, 09 Feb 2025) EllapsedTime: 347.2 seconds RetCode: 1 Status: ERROR PackageFile: None PackageFileSize: NA