Package: SeqArray Version: 1.47.3 Command: E:\biocbuild\bbs-3.21-bioc\R\bin\R.exe CMD INSTALL SeqArray StartedAt: 2025-02-09 15:38:00 -0500 (Sun, 09 Feb 2025) EndedAt: 2025-02-09 15:39:26 -0500 (Sun, 09 Feb 2025) EllapsedTime: 86.2 seconds RetCode: 0 Status: OK