Package: SeqGSEA Version: 1.47.0 Command: rm -rf SeqGSEA.buildbin-libdir && mkdir SeqGSEA.buildbin-libdir && /Users/biocbuild/BBS/utils/build-universal.sh SeqGSEA_1.47.0.tar.gz /Library/Frameworks/R.framework/Resources/bin/R SeqGSEA.buildbin-libdir StartedAt: 2025-02-09 22:30:44 -0500 (Sun, 09 Feb 2025) EndedAt: 2025-02-09 22:30:59 -0500 (Sun, 09 Feb 2025) EllapsedTime: 14.3 seconds RetCode: 0 Status: OK PackageFile: SeqGSEA_1.47.0.tgz PackageFileSize: 2.087 MiB