Package: SeqGSEA Version: 1.47.0 Command: /Library/Frameworks/R.framework/Resources/bin/R CMD build --keep-empty-dirs --no-resave-data SeqGSEA StartedAt: 2025-02-12 17:36:15 -0500 (Wed, 12 Feb 2025) EndedAt: 2025-02-12 17:39:19 -0500 (Wed, 12 Feb 2025) EllapsedTime: 184.1 seconds RetCode: 0 Status: OK PackageFile: SeqGSEA_1.47.0.tar.gz PackageFileSize: 1.596 MiB